BEGIN:VCALENDAR
VERSION:2.0
PRODID:-//BBCS - ECPv5.1.0//NONSGML v1.0//EN
CALSCALE:GREGORIAN
METHOD:PUBLISH
X-WR-CALNAME:BBCS
X-ORIGINAL-URL:https://bbcs.dk
X-WR-CALDESC:Events for BBCS
BEGIN:VTIMEZONE
TZID:Europe/Copenhagen
BEGIN:DAYLIGHT
TZOFFSETFROM:+0100
TZOFFSETTO:+0200
TZNAME:CEST
DTSTART:20210328T010000
END:DAYLIGHT
BEGIN:STANDARD
TZOFFSETFROM:+0200
TZOFFSETTO:+0100
TZNAME:CET
DTSTART:20211031T010000
END:STANDARD
END:VTIMEZONE
BEGIN:VEVENT
DTSTART;TZID=Europe/Copenhagen:20211001T080000
DTEND;TZID=Europe/Copenhagen:20211031T170000
DTSTAMP:20210722T172433
CREATED:20201113T125033Z
LAST-MODIFIED:20210219T082026Z
UID:518-1633075200-1635699600@bbcs.dk
SUMMARY:BBCS Culinary Dinner
DESCRIPTION:The classic!\nHopefully possible this year. \nWe are planning for this event to take place somewhere in october 2021 \nWe will update as soon as we know more. \n
URL:https://bbcs.dk/event/bbcs-culinary-dinner/
ATTACH;FMTTYPE=image/jpeg:https://bbcs.dk/wp-content/uploads/2020/07/culinary-dinner-2020-scaled.jpg
END:VEVENT
END:VCALENDAR